Workbook

Sheet Data
A3: Year | B3: Year Historic shortfall | C3: PS years 100% | D3: LLF | E3: Rank | F3: Month | G3: Category | H3: period historical received | I3: Mission initiative grant | J3: Acct Code2 | K3: Parish Name | L3: Benefice | M3: Deanery | N3: Archdeaconry | O3: Comment | P3: Comment 2 | Q3: Prior YTD received | R3: Request | S3: Received | T3: Full year Req | U3: Historical shortfall
A4: 2017 | C4: =IF(GETPIVOTDATA("PS % recovery",Sheet4!$B$5,"Parish Name",K4)>99.949%,"OK","No") -> OK | D4: =VLOOKUP(J4,'Ref2'!C:E,3,0) -> #N/A | E4: 153 | I4: =VLOOKUP(J4,Ref!L:M,2,0) -> #N/A | J4: 030480 | K4: Bourne End | L4: Sunnyside with Bourne End | M4: Berkhamsted Deanery | N4: Archdeaconry of St Albans | R4: 10113 | S4: 10113
A5: 2017 | C5: =IF(GETPIVOTDATA("PS % recovery",Sheet4!$B$5,"Parish Name",K5)>99.949%,"OK","No") -> OK | D5: =VLOOKUP(J5,'Ref2'!C:E,3,0) -> #N/A | E5: 153 | I5: =VLOOKUP(J5,Ref!L:M,2,0) -> #N/A | J5: 032500 | K5: Sunnyside, St Michael and All Angels | L5: Sunnyside with Bourne End | M5: Berkhamsted Deanery | N5: Archdeaconry of St Albans | R5: 97166 | S5: 97166
A6: 2017 | C6: =IF(GETPIVOTDATA("PS % recovery",Sheet4!$B$5,"Parish Name",K6)>99.949%,"OK","No") -> OK | D6: =VLOOKUP(J6,'Ref2'!C:E,3,0) -> #N/A | E6: 153 | I6: =VLOOKUP(J6,Ref!L:M,2,0) -> #N/A | J6: 031050 | K6: Great Berkhamsted | L6: Berkhamsted Team Ministry | M6: Berkhamsted Deanery | N6: Archdeaconry of St Albans | R6: 131659 | S6: 131659
A7: 2017 | C7: =IF(GETPIVOTDATA("PS % recovery",Sheet4!$B$5,"Parish Name",K7)>99.949%,"OK","No") -> OK | D7: =VLOOKUP(J7,'Ref2'!C:E,3,0) -> #N/A | E7: 328 | I7: =VLOOKUP(J7,Ref!L:M,2,0) -> #N/A | J7: 031060 | K7: Great Gaddesden | L7: Berkhamsted Team Ministry | M7: Berkhamsted Deanery | N7: Archdeaconry of St Albans | R7: 20139 | S7: 20139.25
A8: 2017 | C8: =IF(GETPIVOTDATA("PS % recovery",Sheet4!$B$5,"Parish Name",K8)>99.949%,"OK","No") -> OK | D8: =VLOOKUP(J8,'Ref2'!C:E,3,0) -> #N/A | E8: 153 | I8: =VLOOKUP(J8,Ref!L:M,2,0) -> #N/A | J8: 031620 | K8: Little Gaddesden | L8: Berkhamsted Team Ministry | M8: Berkhamsted Deanery | N8: Archdeaconry of St Albans | R8: 35028 | S8: 35028
A9: 2017 | C9: =IF(GETPIVOTDATA("PS % recovery",Sheet4!$B$5,"Parish Name",K9)>99.949%,"OK","No") -> OK | D9: =VLOOKUP(J9,'Ref2'!C:E,3,0) -> #N/A | E9: 153 | I9: =VLOOKUP(J9,Ref!L:M,2,0) -> #N/A | J9: 031851 | K9: Nettleden | L9: Berkhamsted Team Ministry | M9: Berkhamsted Deanery | N9: Archdeaconry of St Albans | R9: 7175 | S9: 7175
A10: 2017 | C10: =IF(GETPIVOTDATA("PS % recovery",Sheet4!$B$5,"Parish Name",K10)>99.949%,"OK","No") -> OK | D10: =VLOOKUP(J10,'Ref2'!C:E,3,0) -> #N/A | E10: 153 | I10: =VLOOKUP(J10,Ref!L:M,2,0) -> #N/A | J10: 032020 | K10: Potten End, Holy Trinity | L10: Berkhamsted Team Ministry | M10: Berkhamsted Deanery | N10: Archdeaconry of St Albans | R10: 44528 | S10: 44528
A11: 2017 | C11: =IF(GETPIVOTDATA("PS % recovery",Sheet4!$B$5,"Parish Name",K11)>99.949%,"OK","No") -> OK | D11: =VLOOKUP(J11,'Ref2'!C:E,3,0) -> #N/A | E11: 153 | I11: =VLOOKUP(J11,Ref!L:M,2,0) -> #N/A | J11: 031901 | K11: Northchurch | L11: Northchurch and Wigginton | M11: Berkhamsted Deanery | N11: Archdeaconry of St Albans | R11: 54287 | S11: 54287
A12: 2017 | C12: =IF(GETPIVOTDATA("PS % recovery",Sheet4!$B$5,"Parish Name",K12)>99.949%,"OK","No") -> No | D12: =VLOOKUP(J12,'Ref2'!C:E,3,0) -> #N/A | E12: 153 | I12: =VLOOKUP(J12,Ref!L:M,2,0) -> #N/A | J12: 032621 | K12: Tring Team Parish | L12: Tring (Team Ministry) | M12: Berkhamsted Deanery | N12: Archdeaconry of St Albans | R12: 146927 | S12: 146927
A13: 2017 | C13: =IF(GETPIVOTDATA("PS % recovery",Sheet4!$B$5,"Parish Name",K13)>99.949%,"OK","No") -> No | D13: =VLOOKUP(J13,'Ref2'!C:E,3,0) -> #N/A | E13: 106 | I13: =VLOOKUP(J13,Ref!L:M,2,0) -> #N/A | J13: 032880 | K13: Wigginton | L13: Northchurch and Wigginton | M13: Berkhamsted Deanery | N13: Archdeaconry of St Albans | R13: 31642 | S13: 28000
A14: 2017 | C14: =IF(GETPIVOTDATA("PS % recovery",Sheet4!$B$5,"Parish Name",K14)>99.949%,"OK","No") -> OK | D14: =VLOOKUP(J14,'Ref2'!C:E,3,0) -> #N/A | E14: 153 | I14: =VLOOKUP(J14,Ref!L:M,2,0) -> #N/A | J14: 091081 | K14: Great Wymondley | L14: St Ippolyts with Great and Little Wymondley | M14: Hitchin Deanery | N14: Archdeaconry of St Albans | R14: 5368 | S14: 5368
A15: 2017 | C15: =IF(GETPIVOTDATA("PS % recovery",Sheet4!$B$5,"Parish Name",K15)>99.949%,"OK","No") -> No | D15: =VLOOKUP(J15,'Ref2'!C:E,3,0) -> #N/A | E15: 16 | I15: =VLOOKUP(J15,Ref!L:M,2,0) -> #N/A | J15: 091670 | K15: Little Wymondley | L15: St Ippolyts with Great and Little Wymondley | M15: Hitchin Deanery | N15: Archdeaconry of St Albans | R15: 8230 | S15: 4800
... A190: 2017 | C190: =IF(GETPIVOTDATA("PS % recovery",Sheet4!$B$5,"Parish Name",K190)>99.949%,"OK","No") -> No | D190: =VLOOKUP(J190,'Ref2'!C:E,3,0) -> #N/A | E190: 77 | I190: =VLOOKUP(J190,Ref!L:M,2,0) -> #N/A | J190: 122445 | K190: Stevenage, St Mary, Shephall | L190: Stevenage, St Mary, Shephall | M190: Stevenage Deanery | N190: Archdeaconry of Hertford | R190: 34795 | S190: 34795
A191: 2017 | C191: =IF(GETPIVOTDATA("PS % recovery",Sheet4!$B$5,"Parish Name",K191)>99.949%,"OK","No") -> No | D191: =VLOOKUP(J191,'Ref2'!C:E,3,0) -> #N/A | E191: 61 | I191: =VLOOKUP(J191,Ref!L:M,2,0) -> #N/A | J191: 122440 | K191: Oak Church Stevenage | L191: Oak Church (extra parochial) (Bishop's Mission Order) | M191: Stevenage Deanery | N191: Archdeaconry of Hertford
A192: 2017 | C192: =IF(GETPIVOTDATA("PS % recovery",Sheet4!$B$5,"Parish Name",K192)>99.949%,"OK","No") -> No | D192: =VLOOKUP(J192,'Ref2'!C:E,3,0) -> #N/A | E192: 49 | I192: =VLOOKUP(J192,Ref!L:M,2,0) -> #N/A | J192: 121470 | K192: Knebworth | L192: Knebworth | M192: Stevenage Deanery | N192: Archdeaconry of Hertford | R192: 54609 | S192: 54609
A193: 2017 | C193: =IF(GETPIVOTDATA("PS % recovery",Sheet4!$B$5,"Parish Name",K193)>99.949%,"OK","No") -> OK | D193: =VLOOKUP(J193,'Ref2'!C:E,3,0) -> #N/A | E193: 151 | I193: =VLOOKUP(J193,Ref!L:M,2,0) -> #N/A | J193: 122442 | K193: Stevenage, All Saints, Pin Green | L193: Stevenage, All Saints, Pin Green | M193: Stevenage Deanery | N193: Archdeaconry of Hertford | R193: 19179 | S193: 19179
A194: 2017 | C194: =IF(GETPIVOTDATA("PS % recovery",Sheet4!$B$5,"Parish Name",K194)>99.949%,"OK","No") -> OK | D194: =VLOOKUP(J194,'Ref2'!C:E,3,0) -> #N/A | E194: 152 | I194: =VLOOKUP(J194,Ref!L:M,2,0) -> #N/A | J194: 122441 | K194: Stevenage, Holy Trinity | L194: Stevenage, Holy Trinity | M194: Stevenage Deanery | N194: Archdeaconry of Hertford | R194: 60111 | S194: 60111
A195: 2017 | C195: =IF(GETPIVOTDATA("PS % recovery",Sheet4!$B$5,"Parish Name",K195)>99.949%,"OK","No") -> No | D195: =VLOOKUP(J195,'Ref2'!C:E,3,0) -> #N/A | E195: 91 | I195: =VLOOKUP(J195,Ref!L:M,2,0) -> #N/A | J195: 122443 | K195: Stevenage, St Andrew and St George | L195: Stevenage, St Andrew and St George | M195: Stevenage Deanery | N195: Archdeaconry of Hertford | R195: 51857 | S195: 51856.75
A196: 2017 | C196: =IF(GETPIVOTDATA("PS % recovery",Sheet4!$B$5,"Parish Name",K196)>99.949%,"OK","No") -> OK | D196: =VLOOKUP(J196,'Ref2'!C:E,3,0) -> #N/A | E196: 139 | I196: =VLOOKUP(J196,Ref!L:M,2,0) -> #N/A | J196: 122444 | K196: Stevenage, St Hugh and St John, Chells (LEP) | L196: Stevenage, St Hugh and St John, Chells | M196: Stevenage Deanery | N196: Archdeaconry of Hertford | R196: 44662 | S196: 44662
A197: 2017 | C197: =IF(GETPIVOTDATA("PS % recovery",Sheet4!$B$5,"Parish Name",K197)>99.949%,"OK","No") -> No | D197: =VLOOKUP(J197,'Ref2'!C:E,3,0) -> LLF | E197: 93 | I197: =VLOOKUP(J197,Ref!L:M,2,0) -> #N/A | J197: 122446 | K197: Stevenage, St Nicholas | L197: Stevenage, St Nicholas and Graveley | M197: Stevenage Deanery | N197: Archdeaconry of Hertford | R197: 56133 | S197: 56133
A198: 2017 | C198: =IF(GETPIVOTDATA("PS % recovery",Sheet4!$B$5,"Parish Name",K198)>99.949%,"OK","No") -> OK | D198: =VLOOKUP(J198,'Ref2'!C:E,3,0) -> #N/A | E198: 153 | I198: =VLOOKUP(J198,Ref!L:M,2,0) -> Yes | J198: 122447 | K198: Stevenage, St Peter, Broadwater | L198: Stevenage, St Peter, Broadwater | M198: Stevenage Deanery | N198: Archdeaconry of Hertford | R198: 56455 | S198: 56455
A199: 2017 | C199: =IF(GETPIVOTDATA("PS % recovery",Sheet4!$B$5,"Parish Name",K199)>99.949%,"OK","No") -> OK | D199: =VLOOKUP(J199,'Ref2'!C:E,3,0) -> #N/A | E199: 153 | I199: =VLOOKUP(J199,Ref!L:M,2,0) -> #N/A | J199: 150050 | K199: Ampthill | L199: Ampthill with Millbrook and Steppingley | M199: Ampthill and Shefford Deanery | N199: Archdeaconry of Bedford | R199: 45049 | S199: 45049
A200: 2017 | C200: =IF(GETPIVOTDATA("PS % recovery",Sheet4!$B$5,"Parish Name",K200)>99.949%,"OK","No") -> No | D200: =VLOOKUP(J200,'Ref2'!C:E,3,0) -> #N/A | E200: 25 | I200: =VLOOKUP(J200,Ref!L:M,2,0) -> #N/A | J200: 151810 | K200: Millbrook | L200: Ampthill with Millbrook and Steppingley | M200: Ampthill and Shefford Deanery | N200: Archdeaconry of Bedford | R200: 6733 | S200: 3162
A201: 2017 | C201: =IF(GETPIVOTDATA("PS % recovery",Sheet4!$B$5,"Parish Name",K201)>99.949%,"OK","No") -> OK | D201: =VLOOKUP(J201,'Ref2'!C:E,3,0) -> #N/A | E201: 153 | I201: =VLOOKUP(J201,Ref!L:M,2,0) -> #N/A | J201: 152430 | K201: Steppingley | L201: Ampthill with Millbrook and Steppingley | M201: Ampthill and Shefford Deanery | N201: Archdeaconry of Bedford | R201: 4230 | S201: 4230
A202: 2017 | C202: =IF(GETPIVOTDATA("PS % recovery",Sheet4!$B$5,"Parish Name",K202)>99.949%,"OK","No") -> No | D202: =VLOOKUP(J202,'Ref2'!C:E,3,0) -> #N/A | E202: 30 | I202: =VLOOKUP(J202,Ref!L:M,2,0) -> #N/A | J202: 150130 | K202: Aspley Guise | L202: Aspley Guise with Husborne Crawley and Ridgmont | M202: Ampthill and Shefford Deanery | N202: Archdeaconry of Bedford | R202: 29597 | S202: 21132
A203: 2017 | C203: =IF(GETPIVOTDATA("PS % recovery",Sheet4!$B$5,"Parish Name",K203)>99.949%,"OK","No") -> No | D203: =VLOOKUP(J203,'Ref2'!C:E,3,0) -> #N/A | E203: 1 | I203: =VLOOKUP(J203,Ref!L:M,2,0) -> #N/A | J203: 151380 | K203: Husborne Crawley | L203: Aspley Guise with Husborne Crawley and Ridgmont | M203: Ampthill and Shefford Deanery | N203: Archdeaconry of Bedford | R203: 6842 | S203: 0
... A252: 2017 | C252: =IF(GETPIVOTDATA("PS % recovery",Sheet4!$B$5,"Parish Name",K252)>99.949%,"OK","No") -> No | D252: =VLOOKUP(J252,'Ref2'!C:E,3,0) -> #N/A | E252: 50 | I252: =VLOOKUP(J252,Ref!L:M,2,0) -> #N/A | J252: 162920 | K252: Wilshamstead | L252: Elstow Team Ministry | M252: Bedford Deanery | N252: Archdeaconry of Bedford | R252: 20003 | S252: 20003
A253: 2017 | C253: =IF(GETPIVOTDATA("PS % recovery",Sheet4!$B$5,"Parish Name",K253)>99.949%,"OK","No") -> #REF! | D253: =VLOOKUP(J253,'Ref2'!C:E,3,0) -> #N/A | E253: #N/A | I253: =VLOOKUP(J253,Ref!L:M,2,0) -> #N/A | K253: Lidlington (LEP) Do not Post to This Account | L253: Closed | M253: Closed | N253: Closed | R253: 4233 | S253: 500
A254: 2017 | C254: =IF(GETPIVOTDATA("PS % recovery",Sheet4!$B$5,"Parish Name",K254)>99.949%,"OK","No") -> OK | D254: =VLOOKUP(J254,'Ref2'!C:E,3,0) -> #N/A | E254: 153 | I254: =VLOOKUP(J254,Ref!L:M,2,0) -> #N/A | J254: 161770 | K254: Marston Morteyne with Lidlington | L254: Marston Morteyne with Lidlington | M254: Bedford Deanery | N254: Archdeaconry of Bedford | R254: 22965 | S254: 22965
A255: 2017 | C255: =IF(GETPIVOTDATA("PS % recovery",Sheet4!$B$5,"Parish Name",K255)>99.949%,"OK","No") -> OK | D255: =VLOOKUP(J255,'Ref2'!C:E,3,0) -> LLF | E255: 153 | I255: =VLOOKUP(J255,Ref!L:M,2,0) -> #N/A | J255: 162960 | K255: Wootton | L255: Wootton | M255: Bedford Deanery | N255: Archdeaconry of Bedford | R255: 60543 | S255: 60543
A256: 2017 | C256: =IF(GETPIVOTDATA("PS % recovery",Sheet4!$B$5,"Parish Name",K256)>99.949%,"OK","No") -> OK | D256: =VLOOKUP(J256,'Ref2'!C:E,3,0) -> #N/A | E256: 153 | I256: =VLOOKUP(J256,Ref!L:M,2,0) -> #N/A | J256: 170390 | K256: Biggleswade | L256: Biggleswade | M256: Biggleswade Deanery | N256: Archdeaconry of Bedford | R256: 70058 | S256: 70058
A257: 2017 | C257: =IF(GETPIVOTDATA("PS % recovery",Sheet4!$B$5,"Parish Name",K257)>99.949%,"OK","No") -> OK | D257: =VLOOKUP(J257,'Ref2'!C:E,3,0) -> #N/A | E257: 153 | I257: =VLOOKUP(J257,Ref!L:M,2,0) -> #N/A | J257: 170450 | K257: Blunham | L257: The Riversmeet Benefice | M257: Biggleswade Deanery | N257: Archdeaconry of Bedford | R257: 17469 | S257: 17469
A258: 2017 | C258: =IF(GETPIVOTDATA("PS % recovery",Sheet4!$B$5,"Parish Name",K258)>99.949%,"OK","No") -> No | D258: =VLOOKUP(J258,'Ref2'!C:E,3,0) -> #N/A | E258: 13 | I258: =VLOOKUP(J258,Ref!L:M,2,0) -> #N/A | J258: 172520 | K258: Tempsford with Little Barford | L258: The Riversmeet Benefice | M258: Biggleswade Deanery | N258: Archdeaconry of Bedford | R258: 2119 | S258: 2119
A259: 2017 | C259: =IF(GETPIVOTDATA("PS % recovery",Sheet4!$B$5,"Parish Name",K259)>99.949%,"OK","No") -> No | D259: =VLOOKUP(J259,'Ref2'!C:E,3,0) -> #N/A | E259: 27 | I259: =VLOOKUP(J259,Ref!L:M,2,0) -> #N/A | J259: 170600 | K259: Caldecote, All Saints | L259: Caldecote, Northill and Old Warden | M259: Biggleswade Deanery | N259: Archdeaconry of Bedford | R259: 19592 | S259: 19592
A260: 2017 | C260: =IF(GETPIVOTDATA("PS % recovery",Sheet4!$B$5,"Parish Name",K260)>99.949%,"OK","No") -> OK | D260: =VLOOKUP(J260,'Ref2'!C:E,3,0) -> #N/A | E260: 153 | I260: =VLOOKUP(J260,Ref!L:M,2,0) -> #N/A | J260: 171950 | K260: Old Warden | L260: Caldecote, Northill and Old Warden | M260: Biggleswade Deanery | N260: Archdeaconry of Bedford | R260: 5689 | S260: 5689
A261: 2017 | C261: =IF(GETPIVOTDATA("PS % recovery",Sheet4!$B$5,"Parish Name",K261)>99.949%,"OK","No") -> OK | D261: =VLOOKUP(J261,'Ref2'!C:E,3,0) -> #N/A | E261: 153 | I261: =VLOOKUP(J261,Ref!L:M,2,0) -> #N/A | J261: 171910 | K261: Northill | L261: Caldecote, Northill and Old Warden | M261: Biggleswade Deanery | N261: Archdeaconry of Bedford | R261: 20650 | S261: 20650
A262: 2017 | C262: =IF(GETPIVOTDATA("PS % recovery",Sheet4!$B$5,"Parish Name",K262)>99.949%,"OK","No") -> OK | D262: =VLOOKUP(J262,'Ref2'!C:E,3,0) -> #N/A | E262: 142 | I262: =VLOOKUP(J262,Ref!L:M,2,0) -> #N/A | J262: 170712 | K262: Cockayne Hatley | L262: Potton with Sutton and Cockayne Hatley | M262: Biggleswade Deanery | N262: Archdeaconry of Bedford | R262: 2842 | S262: 2842
A263: 2017 | C263: =IF(GETPIVOTDATA("PS % recovery",Sheet4!$B$5,"Parish Name",K263)>99.949%,"OK","No") -> No | D263: =VLOOKUP(J263,'Ref2'!C:E,3,0) -> #N/A | E263: 137 | I263: =VLOOKUP(J263,Ref!L:M,2,0) -> #N/A | J263: 172030 | K263: Potton | L263: Potton with Sutton and Cockayne Hatley | M263: Biggleswade Deanery | N263: Archdeaconry of Bedford | R263: 44507 | S263: 44507
A264: 2017 | C264: =IF(GETPIVOTDATA("PS % recovery",Sheet4!$B$5,"Parish Name",K264)>99.949%,"OK","No") -> OK | D264: =VLOOKUP(J264,'Ref2'!C:E,3,0) -> #N/A | E264: 153 | I264: =VLOOKUP(J264,Ref!L:M,2,0) -> #N/A | J264: 172510 | K264: Sutton | L264: Potton with Sutton and Cockayne Hatley | M264: Biggleswade Deanery | N264: Archdeaconry of Bedford | R264: 10221 | S264: 10221
...

Sheet Formula
A1: Calculated Field
A2: Solve Order | B2: Field | C2: Formula
A3: 1 | B3: PS % recovery | C3: =Received/Request
A5: Calculated Item
A6: Solve Order | B6: Item | C6: Formula
A9: Note: | B9: When a cell is updated by more than one formula,
B10: the value is set by the formula with the last solve order.
B12: To change the solve order for multiple calculated items or fields,
B13: on the Options tab, in the Calculations group, click Fields, Items, & Sets, and then click Solve Order.

Sheet Home Page
E3: Please click on the deanery below to view the report
E5: Archdeaconry of St Albans | F5: Archdeaconry of Hertford | G5: Archdeaconry of Bedford
E6: Berkhamsted Deanery | F6: Barnet Deanery | G6: Ampthill and Shefford Deanery
E7: Hitchin Deanery | F7: Bishop's Stortford Deanery | G7: Bedford Deanery
E8: Rickmansworth Deanery | F8: Buntingford Deanery | G8: Biggleswade Deanery
E9: St Albans Deanery | F9: Cheshunt Deanery | G9: Dunstable Deanery
E10: Watford Deanery | F10: Welwyn Hatfield Deanery | G10: Luton Deanery
E11: Wheathampstead Deanery | F11: Hertford and Ware Deanery | G11: Sharnbrook Deanery
E12: Hemel Hempstead Deanery | F12: Stevenage Deanery
E17: Please click below to view additional reports
F19: Top Level Summary
F20: Parish share report for the Diocese
F21: 2023 Parish share income by month
F22: Parish Share income received 2024 for prior years

Sheet Top level Summary
A1: Click here to return to homepage
A3: Parish Share report 31.12.2024
A5: Year | B5: 2024
A8: Archdeaconry | B8: Deanery | C8: Sum of Full year Req £ | D8: Sum of Request YTD £ | E8: Sum of Received £ | F8: Sum of PS % recovery YTD
A9: Archdeaconry of Bedford | B9: Ampthill and Shefford Deanery | C9: 774545.32 | D9: 774545.32 | E9: 657108.12 | F9: 0.84837918
B10: Bedford Deanery | C10: 1105612 | D10: 1105612 | E10: 957457 | F10: 0.86599729
B11: Biggleswade Deanery | C11: 492280 | D11: 492280 | E11: 414313.8 | F11: 0.84162225
B12: Dunstable Deanery | C12: 696563 | D12: 696563 | E12: 582364.98 | F12: 0.836055
B13: Luton Deanery | C13: 758488 | D13: 758488 | E13: 591136.26 | F13: 0.77936139
B14: Sharnbrook Deanery | C14: 542099.6 | D14: 542099.6 | E14: 445394.76 | F14: 0.82161057
A15: Archdeaconry of Bedford Total | C15: 4369587.9 | D15: 4369587.9 | E15: 3647774.9 | F15: 0.83480982
A16: Archdeaconry of Hertford | B16: Barnet Deanery | C16: 702545 | D16: 702545 | E16: 671003.9 | F16: 0.95510451
B17: Bishop's Stortford Deanery | C17: 614733 | D17: 614733 | E17: 554240.03 | F17: 0.90159472
B18: Buntingford Deanery | C18: 536127.45 | D18: 536127.45 | E18: 512790.91 | F18: 0.95647203
B19: Cheshunt Deanery | C19: 439687 | D19: 439687 | E19: 371559 | F19: 0.84505341
B20: Welwyn Hatfield Deanery | C20: 739136.33 | D20: 739136.33 | E20: 702708.31 | F20: 0.95071542
B21: Hertford and Ware Deanery | C21: 765731.72 | D21: 765731.72 | E21: 726636.42 | F21: 0.94894387
B22: Stevenage Deanery | C22: 485176 | D22: 485176 | E22: 437549.28 | F22: 0.9018362
A23: Archdeaconry of Hertford Total | C23: 4283136.5 | D23: 4283136.5 | E23: 3976487.9 | F23: 0.92840559
A24: Archdeaconry of St Albans | B24: Berkhamsted Deanery | C24: 623865 | D24: 623865 | E24: 621117.97 | F24: 0.99559676
B25: Hitchin Deanery | C25: 789951 | D25: 789951 | E25: 731127.68 | F25: 0.92553548
B26: Rickmansworth Deanery | C26: 829070 | D26: 829070 | E26: 809713.28 | F26: 0.97665249
B27: St Albans Deanery | C27: 1132002 | D27: 1132002 | E27: 1116857.4 | F27: 0.98662141
B28: Watford Deanery | C28: 798699 | D28: 798699 | E28: 730238.96 | F28: 0.91428556
B29: Wheathampstead Deanery | C29: 762869 | D29: 762869 | E29: 760051 | F29: 0.99630605
B30: Hemel Hempstead Deanery | C30: 458285.5 | D30: 458285.5 | E30: 423317.5 | F30: 0.92369822
A31: Archdeaconry of St Albans Total | C31: 5394741.5 | D31: 5394741.5 | E31: 5192423.8 | F31: 0.96249724
A32: Grand Total | C32: 14047466 | D32: 14047466 | E32: 12816687 | F32: 0.91238424
E47: =GETPIVOTDATA("Sum of Received £",Ampthill!$A$25)+GETPIVOTDATA("Sum of Received £",Bedford!$A$25)+GETPIVOTDATA("Sum of Received £",Biggleswade!$A$25)+GETPIVOTDATA("Sum of Received £",Dunstable!$A$25)+GETPIVOTDATA("Sum of Received £",Luton!$A$25)+GETPIVOTDATA("Sum of Received £",Sharnbrook!$A$25) -> 3647774.9 | F47: =GETPIVOTDATA("Sum of Received £",$A$7,"Archdeaconry","Archdeaconry of Bedford")-E47 -> 0
E48: =GETPIVOTDATA("Sum of Received £",Barnet!$A$25)+GETPIVOTDATA("Sum of Received £",'Bishop''s Stortford'!$A$25)+GETPIVOTDATA("Sum of Received £",Buntingford!$A$25)+GETPIVOTDATA("Sum of Received £",Cheshunt!$A$25)+GETPIVOTDATA("Sum of Received £",Welwyn!$A$25)+GETPIVOTDATA("Sum of Received £",'Hertford and Ware'!$A$25)+GETPIVOTDATA("Sum of Received £",Stevenage!$A$25) -> 3976487.9 | F48: =GETPIVOTDATA("Sum of Received £",$A$7,"Archdeaconry","Archdeaconry of Hertford")-E48 -> 0
E49: =GETPIVOTDATA("Sum of Received £",Berkhamstead!$A$25)+GETPIVOTDATA("Sum of Received £",Hitchin!$A$25)+GETPIVOTDATA("Sum of Received £",Rickmandsworth!$A$25)+GETPIVOTDATA("Sum of Received £",'St Albans'!$A$25)+GETPIVOTDATA("Sum of Received £",Watford!$A$25)+GETPIVOTDATA("Sum of Received £",Wheathampstead!$A$25)+GETPIVOTDATA("Sum of Received £",'Hemel Hempstead'!$A$25) -> 5192423.8 | F49: =GETPIVOTDATA("Sum of Received £",$A$7,"Archdeaconry","Archdeaconry of St Albans ")-E49 -> 0
E50: =SUM(E47:E49) -> 12816687 | F50: =GETPIVOTDATA("Sum of Received £",$A$7)-E50 -> 0
E51: Check all in order

Sheet Diocese
A1: Click here to return to homepage
A3: ='Top level Summary'!A3 -> Parish Share report 31.12.2024
A4: Year | B4: 2024
A5: Archdeaconry | B5: (All)
A6: Benefice | B6: (All)
A9: Deanery | B9: Parish Name | C9: Sum of Full year Req £ | D9: Sum of Request YTD £ | E9: Sum of Received £ | F9: Sum of Balance YTD | G9: Sum of PS % recovery YTD
A10: Berkhamsted Deanery | B10: Bourne End | C10: 11719 | D10: 11719 | E10: 11719 | F10: 0 | G10: 1
B11: Great Berkhamsted | C11: 127875 | D11: 127875 | E11: 127875 | F11: 0 | G11: 1
B12: Great Gaddesden | C12: 24300 | D12: 24300 | E12: 24300 | F12: 0 | G12: 1
B13: Little Gaddesden | C13: 41508 | D13: 41508 | E13: 41508 | F13: 0 | G13: 1
B14: Nettleden | C14: 7701 | D14: 7701 | E14: 7701 | F14: 0 | G14: 1
B15: Northchurch | C15: 56994 | D15: 56994 | E15: 56993.97 | F15: -0.03 | G15: 0.99999947
B16: Potten End, Holy Trinity | C16: 48662 | D16: 48662 | E16: 48662 | F16: 0 | G16: 1
B17: Sunnyside, St Michael and All Angels | C17: 90723 | D17: 90723 | E17: 90723 | F17: 0 | G17: 1
B18: Tring Team Parish | C18: 177636 | D18: 177636 | E18: 177636 | F18: 0 | G18: 1
B19: Wigginton | C19: 36747 | D19: 36747 | E19: 34000 | F19: -2747 | G19: 0.9252456
A20: Berkhamsted Deanery Total | C20: 623865 | D20: 623865 | E20: 621117.97 | F20: -2747.03 | G20: 0.99559676
A21: Hitchin Deanery | B21: Great Wymondley | C21: 5980 | D21: 5980 | E21: 5980 | F21: 0 | G21: 1
B22: Hitchin | C22: 0 | D22: 0 | E22: 0 | F22: 0 | G22: #DIV/0!
B23: Holwell | C23: 4732 | D23: 4732 | E23: 0 | F23: -4732 | G23: 0
B24: Holy Saviour Hitchin | C24: 56850 | D24: 56850 | E24: 56850 | F24: 0 | G24: 1
B25: Ickleford | C25: 31422 | D25: 31422 | E25: 31422 | F25: 0 | G25: 1
B26: Kings Walden | C26: 16633 | D26: 16633 | E26: 16633 | F26: 0 | G26: 1
B27: Letchworth, St Paul | C27: 96983 | D27: 96983 | E27: 96983 | F27: 0 | G27: 1
B28: Lilley | C28: 15802 | D28: 15802 | E28: 15802 | F28: 0 | G28: 1
B29: Little Wymondley | C29: 8063 | D29: 8063 | E29: 2900 | F29: -5163 | G29: 0.35966762
B30: Norton | C30: 69924 | D30: 69924 | E30: 69924 | F30: 0 | G30: 1
B31: Offley | C31: 16759 | D31: 16759 | E31: 12856 | F31: -3903 | G31: 0.76711021
B32: Old Letchworth | C32: 2136 | D32: 2136 | E32: 2136 | F32: 0 | G32: 1
B33: Pirton | C33: 27119 | D33: 27119 | E33: 27119 | F33: 0 | G33: 1
B34: Radwell | C34: 1847 | D34: 1847 | E34: 1847 | F34: 0 | G34: 1
... B43: Willian | C43: 15486 | D43: 15486 | E43: 15486 | F43: 0 | G43: 1
A44: Hitchin Deanery Total | C44: 789951 | D44: 789951 | E44: 731127.68 | F44: -58823.32 | G44: 0.92553548
A45: Rickmansworth Deanery | B45: Bovingdon | C45: 48984 | D45: 48984 | E45: 48984 | F45: 0 | G45: 1
B46: Chipperfield | C46: 50586 | D46: 50586 | E46: 50586 | F46: 0 | G46: 1
B47: Chorleywood, Christ Church | C47: 224124 | D47: 224124 | E47: 224124 | F47: 0 | G47: 1
B48: Chorleywood, St Andrew | C48: 176316 | D48: 176316 | E48: 176316 | F48: 0 | G48: 1
B49: Croxley Green, All Saints | C49: 64593 | D49: 64593 | E49: 64593 | F49: 0 | G49: 1
B50: Croxley Green, St Oswald | C50: 70200 | D50: 70200 | E50: 70200 | F50: 0 | G50: 1
B51: Mill End and Heronsgate with West Hyde | C51: 53881 | D51: 53881 | E51: 53881.28 | F51: 0.28 | G51: 1.0000052
...

Sheet Parish Share Income Pattern
A1: Click here to return to homepage
A2: Category | B2: (blank)
A3: Archdeaconry | B3: (All)
A5: Sum of Received £ | D5: Year | E5: Month
D6: 2023 | Q6: 2023 Total | R6: 2024 | AE6: 2024 Total | AF6: Grand Total
A7: Deanery | B7: Benefice | C7: Parish Name | D7: 1 | E7: 2 | F7: 3 | G7: 4 | H7: 5 | I7: 6 | J7: 7 | K7: 8 | L7: 9 | M7: 10 | N7: 11 | O7: 12 | P7: 13 | R7: 1 | S7: 2 | T7: 3 | U7: 4 | V7: 5 | W7: 6 | X7: 7 | Y7: 8 | Z7: 9 | AA7: 10 | AB7: 11 | AC7: 12 | AD7: 13
A8: Berkhamsted Deanery | B8: Berkhamsted Team Ministry | C8: Great Berkhamsted | D8: 11000 | E8: 11000 | F8: 11000 | G8: 11000 | H8: 11000 | I8: 11000 | J8: 11000 | K8: 11000 | L8: 10654 | M8: 10654 | N8: 10654 | O8: 10655 | Q8: 130617 | R8: 10544 | S8: 10544 | T8: 10544 | U8: 10544 | V8: 10544 | W8: 10648 | X8: 10751 | Y8: 10751 | Z8: 10751 | AA8: 10751 | AB8: 10751 | AC8: 10752 | AE8: 127875 | AF8: 258492
C9: Great Gaddesden | D9: 0 | E9: 0 | F9: 5854.25 | G9: 0 | H9: 0 | I9: 5854.25 | J9: 0 | K9: 0 | L9: 5854.25 | M9: 0 | N9: 0 | O9: 5854.25 | Q9: 23417 | R9: 0 | S9: 0 | T9: 6075 | U9: 0 | V9: 0 | W9: 6075 | X9: 0 | Y9: 0 | Z9: 6075 | AB9: 0 | AC9: 6075 | AE9: 24300 | AF9: 47717
C10: Little Gaddesden | D10: 3338 | E10: 3338 | F10: 3338 | G10: 3338 | H10: 3338 | I10: 3338 | J10: 3338 | K10: 3338 | L10: 3338 | M10: 3338 | N10: 3338 | O10: 3336 | Q10: 40054 | R10: 3459 | S10: 3459 | T10: 3459 | U10: 3459 | V10: 3459 | W10: 3459 | X10: 3459 | Y10: 3459 | Z10: 3459 | AA10: 3459 | AB10: 3459 | AC10: 3459 | AE10: 41508 | AF10: 81562
C11: Nettleden | D11: 617.75 | E11: 617.75 | F11: 617.75 | G11: 617.75 | H11: 617.75 | I11: 617.75 | J11: 617.75 | K11: 617.75 | L11: 617.75 | M11: 617.75 | N11: 617.75 | O11: 617.75 | Q11: 7413 | R11: 641.75 | S11: 641.75 | T11: 641.75 | U11: 641.75 | V11: 641.75 | W11: 641.75 | X11: 641.75 | Y11: 641.75 | Z11: 641.75 | AA11: 641.75 | AB11: 641.75 | AC11: 641.75 | AE11: 7701 | AF11: 15114
C12: Potten End, Holy Trinity | D12: 4098 | E12: 4098 | F12: 4098 | G12: 4098 | H12: 4098 | I12: 4098 | J12: 4098 | K12: 4098 | L12: 3699 | M12: 3699 | N12: 3699 | O12: 3699 | Q12: 47580 | R12: 3830 | S12: 3830 | T12: 3830 | U12: 3830 | V12: 3830 | W12: 4038 | X12: 4246 | Y12: 6246 | Z12: 4246 | AA12: 4246 | AB12: 4246 | AC12: 2244 | AE12: 48662 | AF12: 96242
B13: Berkhamsted Team Ministry Total | D13: 19053.75 | E13: 19053.75 | F13: 24908 | G13: 19053.75 | H13: 19053.75 | I13: 24908 | J13: 19053.75 | K13: 19053.75 | L13: 24163 | M13: 18308.75 | N13: 18308.75 | O13: 24162 | Q13: 249081 | R13: 18474.75 | S13: 18474.75 | T13: 24549.75 | U13: 18474.75 | V13: 18474.75 | W13: 24861.75 | X13: 19097.75 | Y13: 21097.75 | Z13: 25172.75 | AA13: 19097.75 | AB13: 19097.75 | AC13: 23171.75 | AE13: 250046 | AF13: 499127
B14: Northchurch and Wigginton | C14: Northchurch | D14: 4800 | E14: 4800 | F14: 4800 | G14: 4800 | H14: 4800 | I14: 4800 | J14: 4800 | K14: 4800 | L14: 4800 | M14: 4800 | N14: 4800 | O14: 4540 | Q14: 57340 | R14: 4540 | S14: 4540 | T14: 4540 | U14: 4819.33 | V14: 4819.33 | W14: 4819.33 | X14: 4819.33 | Y14: 4819.33 | Z14: 4819.33 | AA14: 4819.33 | AB14: 4819.33 | AC14: 4819.33 | AE14: 56993.97 | AF14: 114333.97
C15: Wigginton | D15: 2250 | E15: 2250 | F15: 2250 | G15: 2250 | H15: 2250 | I15: 2250 | J15: 2250 | K15: 2250 | L15: 2250 | M15: 2250 | N15: 2250 | O15: 8250 | Q15: 33000 | R15: 2250 | S15: 2250 | T15: 2250 | U15: 2250 | V15: 2250 | W15: 2250 | X15: 2250 | Y15: 2250 | Z15: 2250 | AA15: 2250 | AB15: 2250 | AC15: 9250 | AE15: 34000 | AF15: 67000
B16: Northchurch and Wigginton Total | D16: 7050 | E16: 7050 | F16: 7050 | G16: 7050 | H16: 7050 | I16: 7050 | J16: 7050 | K16: 7050 | L16: 7050 | M16: 7050 | N16: 7050 | O16: 12790 | Q16: 90340 | R16: 6790 | S16: 6790 | T16: 6790 | U16: 7069.33 | V16: 7069.33 | W16: 7069.33 | X16: 7069.33 | Y16: 7069.33 | Z16: 7069.33 | AA16: 7069.33 | AB16: 7069.33 | AC16: 14069.33 | AE16: 90993.97 | AF16: 181333.97
B17: Sunnyside with Bourne End | C17: Bourne End | D17: 956 | E17: 956 | F17: 956 | G17: 956 | H17: 956 | I17: 956 | J17: 956 | K17: 956 | L17: 956 | M17: 956 | N17: 956 | O17: 952 | Q17: 11468 | R17: 977 | S17: 977 | T17: 977 | U17: 977 | V17: 977 | W17: 977 | X17: 977 | Y17: 977 | Z17: 977 | AA17: 977 | AB17: 977 | AC17: 972 | AE17: 11719 | AF17: 23187
C18: Sunnyside, St Michael and All Angels | D18: 7163 | E18: 7163 | F18: 2138 | G18: 5488 | H18: 5488 | I18: 5488 | J18: 5488 | K18: 5488 | L18: 5488 | M18: 7163 | N18: 7731 | O18: 7731 | Q18: 72017 | R18: 7560 | S18: 7560 | T18: 7560 | U18: 7560 | V18: 7560 | W18: 7560 | X18: 7560 | Y18: 7560 | Z18: 7560 | AA18: 7560 | AB18: 7560 | AC18: 7563 | AE18: 90723 | AF18: 162740
B19: Sunnyside with Bourne End Total | D19: 8119 | E19: 8119 | F19: 3094 | G19: 6444 | H19: 6444 | I19: 6444 | J19: 6444 | K19: 6444 | L19: 6444 | M19: 8119 | N19: 8687 | O19: 8683 | Q19: 83485 | R19: 8537 | S19: 8537 | T19: 8537 | U19: 8537 | V19: 8537 | W19: 8537 | X19: 8537 | Y19: 8537 | Z19: 8537 | AA19: 8537 | AB19: 8537 | AC19: 8535 | AE19: 102442 | AF19: 185927
B20: Tring (Team Ministry) | C20: Tring Team Parish | D20: 13500 | E20: 13500 | F20: 13500 | G20: 13500 | H20: 15000 | I20: 15000 | J20: 15000 | K20: 15000 | L20: 15000 | M20: 15000 | N20: 15000 | O20: 15000 | Q20: 174000 | R20: 15000 | S20: 15000 | T20: 15000 | U20: 15000 | V20: 15000 | W20: 15000 | X20: 15000 | Y20: 15000 | Z20: 15000 | AA20: 15000 | AB20: 15000 | AC20: 12636 | AE20: 177636 | AF20: 351636
B21: Tring (Team Ministry) Total | D21: 13500 | E21: 13500 | F21: 13500 | G21: 13500 | H21: 15000 | I21: 15000 | J21: 15000 | K21: 15000 | L21: 15000 | M21: 15000 | N21: 15000 | O21: 15000 | Q21: 174000 | R21: 15000 | S21: 15000 | T21: 15000 | U21: 15000 | V21: 15000 | W21: 15000 | X21: 15000 | Y21: 15000 | Z21: 15000 | AA21: 15000 | AB21: 15000 | AC21: 12636 | AE21: 177636 | AF21: 351636
A22: Berkhamsted Deanery Total | D22: 47722.75 | E22: 47722.75 | F22: 48552 | G22: 46047.75 | H22: 47547.75 | I22: 53402 | J22: 47547.75 | K22: 47547.75 | L22: 52657 | M22: 48477.75 | N22: 49045.75 | O22: 60635 | Q22: 596906 | R22: 48801.75 | S22: 48801.75 | T22: 54876.75 | U22: 49081.08 | V22: 49081.08 | W22: 55468.08 | X22: 49704.08 | Y22: 51704.08 | Z22: 55779.08 | AA22: 49704.08 | AB22: 49704.08 | AC22: 58412.08 | AE22: 621117.97 | AF22: 1218024
A23: Hitchin Deanery | B23: Hitchin & St Paul's Walden (Team Ministry) | C23: Hitchin | D23: 10000 | E23: 10000 | F23: 10000 | G23: 0 | H23: 10000 | I23: 0 | J23: 0 | K23: 0 | L23: 30631 | M23: 0 | N23: 0 | Q23: 70631 | R23: 0 | S23: 0 | U23: 0 | Y23: 0 | Z23: 0 | AC23: 0 | AE23: 0 | AF23: 70631
C24: Holy Saviour Hitchin | D24: 0 | E24: 0 | F24: 0 | G24: 0 | H24: 0 | I24: 0 | J24: 0 | K24: 0 | L24: 28088 | M24: 0 | N24: 0 | O24: 14044 | Q24: 42132 | R24: 0 | S24: 0 | U24: 12000 | V24: 0 | W24: 6000 | X24: 3000 | Y24: 3000 | Z24: 3000 | AA24: 3000 | AB24: 3000 | AC24: 23850 | AE24: 56850 | AF24: 98982
C25: St Faith's Hitchin | D25: 0 | E25: 0 | F25: 0 | G25: 0 | H25: 0 | I25: 0 | J25: 0 | K25: 0 | L25: 1800 | M25: 0 | N25: 15000 | O25: 10000 | Q25: 26800 | R25: 0 | S25: 4000 | T25: 4000 | U25: 4000 | V25: 4000 | X25: 4000 | Y25: 0 | Z25: 4000 | AA25: 8066.66 | AB25: 0 | AC25: 8000 | AE25: 40066.66 | AF25: 66866.66
C26: St Mark's Hitchin | D26: 0 | E26: 0 | F26: 0 | G26: 0 | H26: 11282.44 | I26: 5641.22 | J26: 5641.22 | K26: 5641.22 | L26: 0 | M26: 11282.44 | N26: 5641.22 | P26: 5641.22 | Q26: 50770.98 | R26: 5939 | S26: 10939 | U26: 11878 | V26: 5939 | X26: 11878 | Y26: 0 | Z26: 11878 | AA26: 5939 | AB26: 0 | AC26: 6878.02 | AE26: 71268.02 | AF26: 122039
C27: St Mary's Hitchin | D27: 0 | E27: 0 | F27: 0 | G27: 0 | H27: 0 | I27: 0 | J27: 25000 | K27: 5000 | L27: 35000 | M27: 5000 | N27: 5000 | O27: 9117 | Q27: 84117 | R27: 5000 | S27: 5000 | T27: 5000 | U27: 5000 | V27: 5000 | W27: 5000 | X27: 5000 | Y27: 5000 | Z27: 5000 | AA27: 5000 | AB27: 23500 | AC27: 5000 | AE27: 78500 | AF27: 162617
C28: St Paul's Walden | D28: 1696 | E28: 1696 | F28: 1696 | G28: 1696 | H28: 1696 | I28: 1696 | J28: 1696 | K28: 1696 | L28: 1696 | M28: 1696 | N28: 1696 | O28: 1694 | Q28: 20350 | R28: 1781 | S28: 1781 | T28: 1781 | U28: 1781 | V28: 1781 | W28: 1781 | X28: 1781 | Y28: 1781 | Z28: 1781 | AA28: 1781 | AB28: 1781 | AC28: 1777 | AE28: 21368 | AF28: 41718
C29: The Hub, Hitchin | S29: 0 | T29: 6542 | U29: 0 | V29: 0 | X29: 6542 | Y29: 0 | Z29: 0 | AA29: 6542 | AB29: 0 | AC29: 6543 | AE29: 26169 | AF29: 26169
B30: Hitchin & St Paul's Walden (Team Ministry) Total | D30: 11696 | E30: 11696 | F30: 11696 | G30: 1696 | H30: 22978.44 | I30: 7337.22 | J30: 32337.22 | K30: 12337.22 | L30: 97215 | M30: 17978.44 | N30: 27337.22 | O30: 34855 | P30: 5641.22 | Q30: 294800.98 | R30: 12720 | S30: 21720 | T30: 17323 | U30: 34659 | V30: 16720 | W30: 12781 | X30: 32201 | Y30: 9781 | Z30: 25659 | AA30: 30328.66 | AB30: 28281 | AC30: 52048.02 | AE30: 294221.68 | AF30: 589022.66
B31: Holwell, Ickleford and Pirton | C31: Holwell | D31: 0 | E31: 0 | F31: 200 | G31: 0 | H31: 0 | I31: 0 | J31: 200 | K31: 0 | L31: 0 | M31: 0 | N31: 200 | O31: 1000 | Q31: 1600 | R31: 0 | S31: 0 | U31: 0 | Y31: 0 | Z31: 0 | AC31: 0 | AE31: 0 | AF31: 1600
C32: Ickleford | D32: 3605 | E32: 3605 | F32: 3605 | G32: 3605 | H32: 3605 | I32: 3605 | J32: 3605 | K32: 3605 | L32: 3605 | M32: 3605 | N32: 3605 | O32: 3608 | Q32: 43263 | R32: 2619 | S32: 2619 | T32: 2619 | U32: 2619 | V32: 2619 | W32: 2619 | X32: 2619 | Y32: 2619 | Z32: 2619 | AA32: 2619 | AB32: 2619 | AC32: 2613 | AE32: 31422 | AF32: 74685
C33: Pirton | D33: 2211 | E33: 2211 | F33: 2211 | G33: 2211 | H33: 2211 | I33: 2211 | J33: 2211 | K33: 2211 | L33: 2211 | M33: 2211 | N33: 2211 | O33: 2211 | Q33: 26532 | R33: 2260 | S33: 2260 | T33: 2260 | U33: 2260 | V33: 2260 | W33: 2260 | X33: 2260 | Y33: 2260 | Z33: 2260 | AA33: 2260 | AB33: 2260 | AC33: 2259 | AE33: 27119 | AF33: 53651
B34: Holwell, Ickleford and Pirton Total | D34: 5816 | E34: 5816 | F34: 6016 | G34: 5816 | H34: 5816 | I34: 5816 | J34: 6016 | K34: 5816 | L34: 5816 | M34: 5816 | N34: 6016 | O34: 6819 | Q34: 71395 | R34: 4879 | S34: 4879 | T34: 4879 | U34: 4879 | V34: 4879 | W34: 4879 | X34: 4879 | Y34: 4879 | Z34: 4879 | AA34: 4879 | AB34: 4879 | AC34: 4872 | AE34: 58541 | AF34: 129936
B35: King's Walden and Offley with Lilley | C35: Kings Walden | D35: 825 | E35: 825 | F35: 825 | G35: 825 | H35: 825 | I35: 825 | J35: 825 | K35: 825 | L35: 1000 | M35: 1000 | N35: 1000 | O35: 1000 | Q35: 10600 | R35: 1600 | S35: 1600 | T35: 1600 | U35: 1600 | V35: 1600 | W35: 1000 | X35: 1600 | Y35: 1000 | Z35: 1600 | AA35: 1600 | AB35: 1600 | AC35: 233 | AE35: 16633 | AF35: 27233
C36: Lilley | D36: 500 | E36: 500 | F36: 500 | G36: 500 | H36: 5500 | I36: 500 | J36: 500 | K36: 4500 | L36: 500 | M36: 500 | N36: 2500 | O36: 897 | Q36: 17397 | R36: 500 | S36: 750 | T36: 750 | U36: 750 | V36: 5750 | W36: 750 | X36: 750 | Y36: 750 | Z36: 750 | AA36: 2755 | AB36: 750 | AC36: 797 | AE36: 15802 | AF36: 33199
C37: Offley | D37: 0 | E37: 0 | F37: 0 | G37: 0 | H37: 0 | I37: 0 | J37: 12400 | K37: 0 | L37: 0 | M37: 0 | N37: 0 | O37: 6492 | Q37: 18892 | R37: 0 | S37: 0 | U37: 0 | X37: 8356 | Y37: 0 | Z37: 0 | AB37: 4500 | AC37: 0 | AE37: 12856 | AF37: 31748
B38: King's Walden and Offley with Lilley Total | D38: 1325 | E38: 1325 | F38: 1325 | G38: 1325 | H38: 6325 | I38: 1325 | J38: 13725 | K38: 5325 | L38: 1500 | M38: 1500 | N38: 3500 | O38: 8389 | Q38: 46889 | R38: 2100 | S38: 2350 | T38: 2350 | U38: 2350 | V38: 7350 | W38: 1750 | X38: 10706 | Y38: 1750 | Z38: 2350 | AA38: 4355 | AB38: 6850 | AC38: 1030 | AE38: 45291 | AF38: 92180
B39: Letchworth, St Paul with Willian and Old Letchworth | C39: Letchworth, St Paul | D39: 7526 | E39: 7526 | F39: 7526 | G39: 7526 | H39: 7526 | I39: 7526 | J39: 7526 | K39: 7526 | L39: 7526 | M39: 7526 | N39: 7526 | O39: 7527 | Q39: 90313 | R39: 8082 | S39: 8082 | T39: 8082 | U39: 8082 | V39: 8082 | W39: 8082 | X39: 8082 | Y39: 8082 | Z39: 8082 | AA39: 8082 | AB39: 8082 | AC39: 8081 | AE39: 96983 | AF39: 187296
C40: Old Letchworth | D40: 0 | E40: 0 | F40: 1520.75 | G40: 506.92 | H40: 506.92 | I40: 506.92 | J40: 506.92 | K40: 506.92 | L40: 506.92 | M40: 506.92 | N40: 506.92 | P40: 506.89 | Q40: 6083 | R40: 0 | S40: 0 | T40: 534 | U40: 0 | V40: 0 | X40: 534 | Y40: 0 | Z40: 0 | AA40: 534 | AB40: 0 | AC40: 534 | AE40: 2136 | AF40: 8219
C41: Willian | D41: 1267 | E41: 1267 | F41: 1267 | G41: 1267 | H41: 1267 | I41: 1267 | J41: 1267 | K41: 1267 | L41: 1267 | M41: 1267 | N41: 1267 | O41: 1270 | Q41: 15207 | R41: 1291 | S41: 1291 | T41: 1291 | U41: 1291 | V41: 1291 | W41: 1291 | X41: 1291 | Y41: 1291 | Z41: 1291 | AA41: 1291 | AB41: 1291 | AC41: 1285 | AE41: 15486 | AF41: 30693
...

Sheet Parish Share Income prior years
A1: Click here to return to homepage
A2: period historical received | B2: 2024
A3: Year Historic shortfall | B3: (All)
A4: Category | B4: historical
A5: Deanery | B5: (All)
A6: Benefice | B6: (All)
A8: Sum of Received £ | C8: Month
A9: Acct Code2 | B9: Parish Name | C9: 1 | D9: 2 | E9: 3 | F9: 4 | G9: 5 | H9: 6 | I9: 7 | J9: 9 | K9: 12 | L9: 13 | M9: Grand Total
A10: 020672 | B10: Chipping Barnet | C10: 304 | M10: 304
A11: 020850 | B11: East Barnet | D11: 45549 | M11: 45549
A12: 032621 | B12: Tring Team Parish | K12: 2364 | L12: 840 | M12: 3204
A13: 032880 | B13: Wigginton | C13: 2390 | J13: 3476 | M13: 5866
A14: 041000 | B14: Gilston with Eastwick | C14: 2696.75 | M14: 2696.75
A15: 050581 | B15: Bygrave | C15: 218 | M15: 218
A16: 071140 | B16: Hatfield Hyde, St Mary Magdalene | C16: 3599.99 | M16: 3599.99
A17: 080210 | B17: Bayford | F17: 2054.13 | J17: 224.96 | M17: 2279.09
A18: 081040 | B18: Great Amwell with St Margarets | K18: 580.5 | M18: 580.5
A19: 082420 | B19: Stanstead Abbots | K19: 0.5 | M19: 0.5
A20: 091460 | B20: Kings Walden | K20: 1314 | M20: 1314
A21: 091670 | B21: Little Wymondley | G21: 400 | M21: 400
A22: 110040 | B22: Aldenham | C22: 10 | M22: 10
A23: 110740 | B23: London Colney, St Peter | K23: 4141 | M23: 4141
A24: 112220 | B24: St Albans, St Peter | E24: 4510 | M24: 4510
A25: 112240 | B25: St Albans, St Stephen | K25: 1 | M25: 1
A26: 132760 | B26: Watford, St John | H26: 614 | M26: 614
A27: 150100 | B27: Arlesey with Astwick | I27: 13916 | M27: 13916
A28: 151230 | B28: Hexton | C28: 3000 | M28: 3000
A29: 151790 | B29: Meppershall | C29: 3000 | M29: 3000
A30: 152940 | B30: Woburn Sands | I30: 7284 | M30: 7284
A31: 160290 | B31: Bedford, St Martin | C31: 3693 | M31: 3693
A32: 160780 | B32: Cranfield | K32: 3 | M32: 3
A33: 161770 | B33: Marston Morteyne with Lidlington | K33: 2 | M33: 2
A34: 180640 | B34: Chalgrave | E34: 3974.25 | M34: 3974.25
A35: 181160 | B35: Heath and Reach with Egginton | C35: 1500 | L35: 2.73 | M35: 1502.73
A36: 181530 | B36: Leighton Buzzard | C36: 601 | M36: 601
A37: 200590 | B37: Caddington | E37: 20000 | M37: 20000
A38: 201510 | B38: Leagrave, St Luke | D38: 4000 | M38: 4000
A39: 202461 | B39: Bushmead | F39: 1755.17 | J39: 2244.83 | M39: 4000
A40: 211921 | B40: Oakley (LEP) | K40: 0.04 | M40: 0.04
A41: 212890 | B41: Wilden | C41: 1500 | M41: 1500
...

Sheet Sheet3
A1: Calculated Field
A2: Solve Order | B2: Field | C2: Formula
A3: 1 | B3: PS % recovery | C3: =Received/Request
A4: 2 | B4: Balance YTD | C4: =Received-Request
A5: 3 | B5: Variance to prior year | C5: =Received-'Prior YTD received'
A7: Calculated Item
A8: Solve Order | B8: Item | C8: Formula
A11: Note: | B11: When a cell is updated by more than one formula,
B12: the value is set by the formula with the last solve order.
B14: To change the solve order for multiple calculated items or fields,
B15: on the Options tab, in the Calculations group, click Fields, Items, & Sets, and then click Solve Order.

Sheet Berkhamstead
A1: Click here to return to homepage
A3: ='Top level Summary'!A3 -> Parish Share report 31.12.2024
B6: Updates
B8: None to note
A22: Year | B22: 2024
A23: Deanery | B23: Berkhamsted Deanery | I23: Deanery | J23: Berkhamsted Deanery
I25: Sum of Historical shortfall | K25: Year Historic shortfall
A26: Benefice | B26: Parish Name | C26: Sum of Full year Req £ | D26: Sum of Request YTD £ | E26: Sum of Received £ | F26: Sum of Balance YTD | G26: Sum of PS % recovery YTD | I26: Benefice | J26: Parish Name | K26: 2023 | L26: 2022 | M26: 2021 & earlier | N26: Grand Total
A27: Berkhamsted Team Ministry | B27: Great Berkhamsted | C27: 127875 | D27: 127875 | E27: 127875 | F27: 0 | G27: 1 | I27: Berkhamsted Team Ministry | J27: Great Berkhamsted | Q27: =J27=B27 -> TRUE
B28: Great Gaddesden | C28: 24300 | D28: 24300 | E28: 24300 | F28: 0 | G28: 1 | J28: Great Gaddesden | Q28: =J28=B28 -> TRUE
B29: Little Gaddesden | C29: 41508 | D29: 41508 | E29: 41508 | F29: 0 | G29: 1 | J29: Little Gaddesden | Q29: =J29=B29 -> TRUE
B30: Nettleden | C30: 7701 | D30: 7701 | E30: 7701 | F30: 0 | G30: 1 | J30: Nettleden | Q30: =J30=B30 -> TRUE
B31: Potten End, Holy Trinity | C31: 48662 | D31: 48662 | E31: 48662 | F31: 0 | G31: 1 | J31: Potten End, Holy Trinity | Q31: =J31=B31 -> TRUE
A32: Berkhamsted Team Ministry Total | C32: 250046 | D32: 250046 | E32: 250046 | F32: 0 | G32: 1 | I32: Berkhamsted Team Ministry Total | Q32: =J32=B32 -> TRUE
A33: Northchurch and Wigginton | B33: Northchurch | C33: 56994 | D33: 56994 | E33: 56993.97 | F33: -0.03 | G33: 0.99999947 | I33: Northchurch and Wigginton | J33: Northchurch | Q33: =J33=B33 -> TRUE
B34: Wigginton | C34: 36747 | D34: 36747 | E34: 34000 | F34: -2747 | G34: 0.9252456 | J34: Wigginton | K34: 0 | L34: 0 | M34: 5142 | N34: 5142 | Q34: =J34=B34 -> TRUE
A35: Northchurch and Wigginton Total | C35: 93741 | D35: 93741 | E35: 90993.97 | F35: -2747.03 | G35: 0.97069553 | I35: Northchurch and Wigginton Total | K35: 0 | L35: 0 | M35: 5142 | N35: 5142 | Q35: =J35=B35 -> TRUE
A36: Sunnyside with Bourne End | B36: Bourne End | C36: 11719 | D36: 11719 | E36: 11719 | F36: 0 | G36: 1 | I36: Sunnyside with Bourne End | J36: Bourne End | Q36: =J36=B36 -> TRUE
B37: Sunnyside, St Michael and All Angels | C37: 90723 | D37: 90723 | E37: 90723 | F37: 0 | G37: 1 | J37: Sunnyside, St Michael and All Angels | Q37: =J37=B37 -> TRUE
A38: Sunnyside with Bourne End Total | C38: 102442 | D38: 102442 | E38: 102442 | F38: 0 | G38: 1 | I38: Sunnyside with Bourne End Total | Q38: =J38=B38 -> TRUE
A39: Tring (Team Ministry) | B39: Tring Team Parish | C39: 177636 | D39: 177636 | E39: 177636 | F39: 0 | G39: 1 | I39: Tring (Team Ministry) | J39: Tring Team Parish | K39: 0 | N39: 0 | Q39: =J39=B39 -> TRUE
A40: Tring (Team Ministry) Total | C40: 177636 | D40: 177636 | E40: 177636 | F40: 0 | G40: 1 | I40: Tring (Team Ministry) Total | K40: 0 | N40: 0 | Q40: =J40=B40 -> TRUE
A41: Grand Total | C41: 623865 | D41: 623865 | E41: 621117.97 | F41: -2747.03 | G41: 0.99559676 | I41: Grand Total | K41: 0 | L41: 0 | M41: 5142 | N41: 5142
A44: Click here to return to homepage

Sheet Hitchin
A1: Click here to return to homepage
A3: ='Top level Summary'!A3 -> Parish Share report 31.12.2024
B6: Updates
A22: Year | B22: 2024
A23: Deanery | B23: Hitchin Deanery | I23: Deanery | J23: Hitchin Deanery
I25: Sum of Historical shortfall | K25: Year Historic shortfall
A26: Benefice | B26: Parish Name | C26: Sum of Full year Req £ | D26: Sum of Request YTD £ | E26: Sum of Received £ | F26: Sum of Balance YTD | G26: Sum of PS % recovery YTD | I26: Benefice | J26: Parish Name | K26: 2023 | L26: 2022 | M26: 2021 & earlier | N26: Grand Total
A27: Hitchin & St Paul's Walden (Team Ministry) | B27: Hitchin | C27: 0 | D27: 0 | E27: 0 | F27: 0 | G27: #DIV/0! | I27: Hitchin & St Paul's Walden (Team Ministry) | J27: Hitchin | M27: 0 | N27: 0 | Q27: =J27=B27 -> TRUE
B28: Holy Saviour Hitchin | C28: 56850 | D28: 56850 | E28: 56850 | F28: 0 | G28: 1 | J28: Holy Saviour Hitchin | Q28: =J28=B28 -> TRUE
B29: St Faith's Hitchin | C29: 56039 | D29: 56039 | E29: 40066.66 | F29: -15972.34 | G29: 0.71497814 | J29: St Faith's Hitchin | K29: 15365 | N29: 15365 | Q29: =J29=B29 -> TRUE
B30: St Mark's Hitchin | C30: 71268 | D30: 71268 | E30: 71268.02 | F30: 0.02 | G30: 1.0000003 | J30: St Mark's Hitchin | K30: 0.02 | N30: 0.02 | Q30: =J30=B30 -> TRUE
B31: St Mary's Hitchin | C31: 107553 | D31: 107553 | E31: 78500 | F31: -29053 | G31: 0.72987271 | J31: St Mary's Hitchin | Q31: =J31=B31 -> TRUE
B32: St Paul's Walden | C32: 21368 | D32: 21368 | E32: 21368 | F32: 0 | G32: 1 | J32: St Paul's Walden | Q32: =J32=B32 -> TRUE
B33: The Hub, Hitchin | C33: 26169 | D33: 26169 | E33: 26169 | F33: 0 | G33: 1 | J33: The Hub, Hitchin | Q33: =J33=B33 -> TRUE
A34: Hitchin & St Paul's Walden (Team Ministry) Total | C34: 339247 | D34: 339247 | E34: 294221.68 | F34: -45025.32 | G34: 0.86727865 | I34: Hitchin & St Paul's Walden (Team Ministry) Total | K34: 15365.02 | M34: 0 | N34: 15365.02 | Q34: =J34=B34 -> TRUE
A35: Holwell, Ickleford and Pirton | B35: Holwell | C35: 4732 | D35: 4732 | E35: 0 | F35: -4732 | G35: 0 | I35: Holwell, Ickleford and Pirton | J35: Holwell | K35: 3111 | M35: 5493.5 | N35: 8604.5 | Q35: =J35=B35 -> TRUE
B36: Ickleford | C36: 31422 | D36: 31422 | E36: 31422 | F36: 0 | G36: 1 | J36: Ickleford | Q36: =J36=B36 -> TRUE
B37: Pirton | C37: 27119 | D37: 27119 | E37: 27119 | F37: 0 | G37: 1 | J37: Pirton | Q37: =J37=B37 -> TRUE
A38: Holwell, Ickleford and Pirton Total | C38: 63273 | D38: 63273 | E38: 58541 | F38: -4732 | G38: 0.92521297 | I38: Holwell, Ickleford and Pirton Total | K38: 3111 | M38: 5493.5 | N38: 8604.5 | Q38: =J38=B38 -> TRUE
A39: King's Walden and Offley with Lilley | B39: Kings Walden | C39: 16633 | D39: 16633 | E39: 16633 | F39: 0 | G39: 1 | I39: King's Walden and Offley with Lilley | J39: Kings Walden | K39: 6581 | L39: 9134 | M39: 16760 | N39: 32475 | Q39: =J39=B39 -> TRUE
B40: Lilley | C40: 15802 | D40: 15802 | E40: 15802 | F40: 0 | G40: 1 | J40: Lilley | Q40: =J40=B40 -> TRUE
B41: Offley | C41: 16759 | D41: 16759 | E41: 12856 | F41: -3903 | G41: 0.76711021 | J41: Offley | L41: 7948 | M41: 13581.25 | N41: 21529.25 | Q41: =J41=B41 -> TRUE
A42: King's Walden and Offley with Lilley Total | C42: 49194 | D42: 49194 | E42: 45291 | F42: -3903 | G42: 0.92066106 | I42: King's Walden and Offley with Lilley Total | K42: 6581 | L42: 17082 | M42: 30341.25 | N42: 54004.25 | Q42: =J42=B42 -> TRUE
A43: Letchworth, St Paul with Willian and Old Letchworth | B43: Letchworth, St Paul | C43: 96983 | D43: 96983 | E43: 96983 | F43: 0 | G43: 1 | I43: Letchworth, St Paul with Willian and Old Letchworth | J43: Letchworth, St Paul | Q43: =J43=B43 -> TRUE
B44: Old Letchworth | C44: 2136 | D44: 2136 | E44: 2136 | F44: 0 | G44: 1 | J44: Old Letchworth | Q44: =J44=B44 -> TRUE
B45: Willian | C45: 15486 | D45: 15486 | E45: 15486 | F45: 0 | G45: 1 | J45: Willian | Q45: =J45=B45 -> TRUE
A46: Letchworth, St Paul with Willian and Old Letchworth Total | C46: 114605 | D46: 114605 | E46: 114605 | F46: 0 | G46: 1 | I46: Letchworth, St Paul with Willian and Old Letchworth Total | Q46: =J46=B46 -> TRUE
A47: Norton | B47: Norton | C47: 69924 | D47: 69924 | E47: 69924 | F47: 0 | G47: 1 | I47: Norton | J47: Norton | Q47: =J47=B47 -> TRUE
A48: Norton Total | C48: 69924 | D48: 69924 | E48: 69924 | F48: 0 | G48: 1 | I48: Norton Total | Q48: =J48=B48 -> TRUE
A49: St Ippolyts with Great and Little Wymondley | B49: Great Wymondley | C49: 5980 | D49: 5980 | E49: 5980 | F49: 0 | G49: 1 | I49: St Ippolyts with Great and Little Wymondley | J49: Great Wymondley | K49: -0.02 | N49: -0.02 | Q49: =J49=B49 -> TRUE
B50: Little Wymondley | C50: 8063 | D50: 8063 | E50: 2900 | F50: -5163 | G50: 0.35966762 | J50: Little Wymondley | K50: 5153 | L50: 5743 | M50: 33834.5 | N50: 44730.5 | Q50: =J50=B50 -> TRUE
B51: St Ippolyts | C51: 42504 | D51: 42504 | E51: 42504 | F51: 0 | G51: 1 | J51: St Ippolyts | Q51: =J51=B51 -> TRUE
A52: St Ippolyts with Great and Little Wymondley Total | C52: 56547 | D52: 56547 | E52: 51384 | F52: -5163 | G52: 0.90869542 | I52: St Ippolyts with Great and Little Wymondley Total | K52: 5152.98 | L52: 5743 | M52: 33834.5 | N52: 44730.48 | Q52: =J52=B52 -> TRUE
A53: Stotfold with Radwell | B53: Radwell | C53: 1847 | D53: 1847 | E53: 1847 | F53: 0 | G53: 1 | I53: Stotfold with Radwell | J53: Radwell | M53: 2589 | N53: 2589 | Q53: =J53=B53 -> TRUE
B54: Stotfold | C54: 54957 | D54: 54957 | E54: 54957 | F54: 0 | G54: 1 | J54: Stotfold | Q54: =J54=B54 -> TRUE
A55: Stotfold with Radwell Total | C55: 56804 | D55: 56804 | E55: 56804 | F55: 0 | G55: 1 | I55: Stotfold with Radwell Total | M55: 2589 | N55: 2589 | Q55: =J55=B55 -> TRUE
A56: Wilbury | B56: Wilbury | C56: 40357 | D56: 40357 | E56: 40357 | F56: 0 | G56: 1 | I56: Wilbury | J56: Wilbury | K56: 0 | N56: 0 | Q56: =J56=B56 -> TRUE
A57: Wilbury Total | C57: 40357 | D57: 40357 | E57: 40357 | F57: 0 | G57: 1 | I57: Wilbury Total | K57: 0 | N57: 0 | Q57: =J57=B57 -> TRUE
A58: Grand Total | C58: 789951 | D58: 789951 | E58: 731127.68 | F58: -58823.32 | G58: 0.92553548 | I58: Grand Total | K58: 30210 | L58: 22825 | M58: 72258.25 | N58: 125293.25 | Q58: =J58=B58 -> TRUE
A60: Click here to return to homepage

Sheet Rickmandsworth
A1: Click here to return to homepage
A3: ='Top level Summary'!A3 -> Parish Share report 31.12.2024
B6: Updates
A22: Year | B22: 2024
A23: Deanery | B23: Rickmansworth Deanery | I23: Deanery | J23: Rickmansworth Deanery
I25: Sum of Historical shortfall | K25: Year Historic shortfall
A26: Benefice | B26: Parish Name | C26: Sum of Full year Req £ | D26: Sum of Request YTD £ | E26: Sum of Received £ | F26: Sum of Balance YTD | G26: Sum of PS % recovery YTD | I26: Benefice | J26: Parish Name | K26: 2023 | L26: 2022 | M26: 2021 & earlier | N26: Grand Total
A27: Bovingdon | B27: Bovingdon | C27: 48984 | D27: 48984 | E27: 48984 | F27: 0 | G27: 1 | I27: Bovingdon | J27: Bovingdon | Q27: =J27=B27 -> TRUE
A28: Bovingdon Total | C28: 48984 | D28: 48984 | E28: 48984 | F28: 0 | G28: 1 | I28: Bovingdon Total | Q28: =J28=B28 -> TRUE
A29: Chorleywood, Christ Church | B29: Chorleywood, Christ Church | C29: 224124 | D29: 224124 | E29: 224124 | F29: 0 | G29: 1 | I29: Chorleywood, Christ Church | J29: Chorleywood, Christ Church | Q29: =J29=B29 -> TRUE
A30: Chorleywood, Christ Church Total | C30: 224124 | D30: 224124 | E30: 224124 | F30: 0 | G30: 1 | I30: Chorleywood, Christ Church Total | Q30: =J30=B30 -> TRUE
A31: Chorleywood, St Andrew | B31: Chorleywood, St Andrew | C31: 176316 | D31: 176316 | E31: 176316 | F31: 0 | G31: 1 | I31: Chorleywood, St Andrew | J31: Chorleywood, St Andrew | Q31: =J31=B31 -> TRUE
A32: Chorleywood, St Andrew Total | C32: 176316 | D32: 176316 | E32: 176316 | F32: 0 | G32: 1 | I32: Chorleywood, St Andrew Total | Q32: =J32=B32 -> TRUE
A33: Croxley Green, All Saints | B33: Croxley Green, All Saints | C33: 64593 | D33: 64593 | E33: 64593 | F33: 0 | G33: 1 | I33: Croxley Green, All Saints | J33: Croxley Green, All Saints | M33: 0 | N33: 0 | Q33: =J33=B33 -> TRUE
A34: Croxley Green, All Saints Total | C34: 64593 | D34: 64593 | E34: 64593 | F34: 0 | G34: 1 | I34: Croxley Green, All Saints Total | M34: 0 | N34: 0 | Q34: =J34=B34 -> TRUE
A35: Croxley Green, St Oswald | B35: Croxley Green, St Oswald | C35: 70200 | D35: 70200 | E35: 70200 | F35: 0 | G35: 1 | I35: Croxley Green, St Oswald | J35: Croxley Green, St Oswald | K35: -0.2 | N35: -0.2 | Q35: =J35=B35 -> TRUE
A36: Croxley Green, St Oswald Total | C36: 70200 | D36: 70200 | E36: 70200 | F36: 0 | G36: 1 | I36: Croxley Green, St Oswald Total | K36: -0.2 | N36: -0.2 | Q36: =J36=B36 -> TRUE
A37: Mill End and Heronsgate with West Hyde | B37: Mill End and Heronsgate with West Hyde | C37: 53881 | D37: 53881 | E37: 53881.28 | F37: 0.28 | G37: 1.0000052 | I37: Mill End and Heronsgate with West Hyde | J37: Mill End and Heronsgate with West Hyde | Q37: =J37=B37 -> TRUE
A38: Mill End and Heronsgate with West Hyde Total | C38: 53881 | D38: 53881 | E38: 53881.28 | F38: 0.28 | G38: 1.0000052 | I38: Mill End and Heronsgate with West Hyde Total | Q38: =J38=B38 -> TRUE
A39: Rickmansworth | B39: Rickmansworth | C39: 93429 | D39: 93429 | E39: 93429 | F39: 0 | G39: 1 | I39: Rickmansworth | J39: Rickmansworth | Q39: =J39=B39 -> TRUE
A40: Rickmansworth Total | C40: 93429 | D40: 93429 | E40: 93429 | F40: 0 | G40: 1 | I40: Rickmansworth Total | Q40: =J40=B40 -> TRUE
A41: Sarratt and Chipperfield | B41: Chipperfield | C41: 50586 | D41: 50586 | E41: 50586 | F41: 0 | G41: 1 | I41: Sarratt and Chipperfield | J41: Chipperfield | Q41: =J41=B41 -> TRUE
B42: Sarratt | C42: 46957 | D42: 46957 | E42: 27600 | F42: -19357 | G42: 0.58777179 | J42: Sarratt | K42: 13443 | L42: 11331 | M42: 18920 | N42: 43694 | Q42: =J42=B42 -> TRUE
A43: Sarratt and Chipperfield Total | C43: 97543 | D43: 97543 | E43: 78186 | F43: -19357 | G43: 0.80155419 | I43: Sarratt and Chipperfield Total | K43: 13443 | L43: 11331 | M43: 18920 | N43: 43694 | Q43: =J43=B43 -> TRUE
A44: Grand Total | C44: 829070 | D44: 829070 | E44: 809713.28 | F44: -19356.72 | G44: 0.97665249 | I44: Grand Total | K44: 13442.8 | L44: 11331 | M44: 18920 | N44: 43693.8 | Q44: =J44=B44 -> TRUE
A47: Click here to return to homepage

Sheet St Albans
A1: Click here to return to homepage
A3: ='Top level Summary'!A3 -> Parish Share report 31.12.2024
B6: Updates
A22: Year | B22: 2024
A23: Deanery | B23: St Albans Deanery | I23: Deanery | J23: St Albans Deanery
I25: Sum of Historical shortfall | K25: Year Historic shortfall
A26: Benefice | B26: Parish Name | C26: Sum of Full year Req £ | D26: Sum of Request YTD £ | E26: Sum of Received £ | F26: Sum of Balance YTD | G26: Sum of PS % recovery YTD | I26: Benefice | J26: Parish Name | K26: 2023 | L26: 2022 | M26: 2021 & earlier | N26: Grand Total
A27: Aldenham, Radlett and Shenley Team Ministry | B27: Aldenham | C27: 32763 | D27: 32763 | E27: 32763 | F27: 0 | G27: 1 | I27: Aldenham, Radlett and Shenley Team Ministry | J27: Aldenham | K27: 0 | N27: 0 | Q27: =J27=B27 -> TRUE
B28: Radlett | C28: 116544 | D28: 116544 | E28: 116544 | F28: 0 | G28: 1 | J28: Radlett | Q28: =J28=B28 -> TRUE
B29: Shenley | C29: 40144 | D29: 40144 | E29: 25000 | F29: -15144 | G29: 0.62275807 | J29: Shenley | K29: 27408 | L29: 9717 | M29: 15442 | N29: 52567 | Q29: =J29=B29 -> TRUE
A30: Aldenham, Radlett and Shenley Team Ministry Total | C30: 189451 | D30: 189451 | E30: 174307 | F30: -15144 | G30: 0.92006376 | I30: Aldenham, Radlett and Shenley Team Ministry Total | K30: 27408 | L30: 9717 | M30: 15442 | N30: 52567 | Q30: =J30=B30 -> TRUE
A31: Bricket Wood | B31: Bricket Wood | C31: 57384 | D31: 57384 | E31: 57384 | F31: 0 | G31: 1 | I31: Bricket Wood | J31: Bricket Wood | K31: -0.04 | N31: -0.04 | Q31: =J31=B31 -> TRUE
A32: Bricket Wood Total | C32: 57384 | D32: 57384 | E32: 57384 | F32: 0 | G32: 1 | I32: Bricket Wood Total | K32: -0.04 | N32: -0.04 | Q32: =J32=B32 -> TRUE
A33: Colney Heath, St Mark | B33: Colney Heath, St Mark | C33: 72752 | D33: 72752 | E33: 72752 | F33: 0 | G33: 1 | I33: Colney Heath, St Mark | J33: Colney Heath, St Mark | Q33: =J33=B33 -> TRUE
A34: Colney Heath, St Mark Total | C34: 72752 | D34: 72752 | E34: 72752 | F34: 0 | G34: 1 | I34: Colney Heath, St Mark Total | Q34: =J34=B34 -> TRUE
A35: Frogmore, Holy Trinity | B35: Frogmore, Holy Trinity | C35: 54930 | D35: 54930 | E35: 54930 | F35: 0 | G35: 1 | I35: Frogmore, Holy Trinity | J35: Frogmore, Holy Trinity | Q35: =J35=B35 -> TRUE
A36: Frogmore, Holy Trinity Total | C36: 54930 | D36: 54930 | E36: 54930 | F36: 0 | G36: 1 | I36: Frogmore, Holy Trinity Total | Q36: =J36=B36 -> TRUE
A37: London Colney, St Peter | B37: London Colney, St Peter | C37: 33812 | D37: 33812 | E37: 33812 | F37: 0 | G37: 1 | I37: London Colney, St Peter | J37: London Colney, St Peter | K37: 0 | M37: 0 | N37: 0 | Q37: =J37=B37 -> TRUE
A38: London Colney, St Peter Total | C38: 33812 | D38: 33812 | E38: 33812 | F38: 0 | G38: 1 | I38: London Colney, St Peter Total | K38: 0 | M38: 0 | N38: 0 | Q38: =J38=B38 -> TRUE
A39: St Albans, Christ Church | B39: St Albans, Christ Church | C39: 76608 | D39: 76608 | E39: 76608 | F39: 0 | G39: 1 | I39: St Albans, Christ Church | J39: St Albans, Christ Church | Q39: =J39=B39 -> TRUE
A40: St Albans, Christ Church Total | C40: 76608 | D40: 76608 | E40: 76608 | F40: 0 | G40: 1 | I40: St Albans, Christ Church Total | Q40: =J40=B40 -> TRUE
A41: St Albans, St Luke | B41: St Albans, St Luke | C41: 71001 | D41: 71001 | E41: 71001 | F41: 0 | G41: 1 | I41: St Albans, St Luke | J41: St Albans, St Luke | Q41: =J41=B41 -> TRUE
A42: St Albans, St Luke Total | C42: 71001 | D42: 71001 | E42: 71001 | F42: 0 | G42: 1 | I42: St Albans, St Luke Total | Q42: =J42=B42 -> TRUE
A43: St Albans, St Mary Marshalswick | B43: St Albans, St Mary Marshalswick | C43: 64059 | D43: 64059 | E43: 64059 | F43: 0 | G43: 1 | I43: St Albans, St Mary Marshalswick | J43: St Albans, St Mary Marshalswick | Q43: =J43=B43 -> TRUE
A44: St Albans, St Mary Marshalswick Total | C44: 64059 | D44: 64059 | E44: 64059 | F44: 0 | G44: 1 | I44: St Albans, St Mary Marshalswick Total | Q44: =J44=B44 -> TRUE
A45: St Albans, St Michael | B45: St Albans, St Michael | C45: 95565 | D45: 95565 | E45: 95565 | F45: 0 | G45: 1 | I45: St Albans, St Michael | J45: St Albans, St Michael | Q45: =J45=B45 -> TRUE
A46: St Albans, St Michael Total | C46: 95565 | D46: 95565 | E46: 95565 | F46: 0 | G46: 1 | I46: St Albans, St Michael Total | Q46: =J46=B46 -> TRUE
A47: St Albans, St Paul | B47: St Albans, St Paul | C47: 164451 | D47: 164451 | E47: 164451 | F47: 0 | G47: 1 | I47: St Albans, St Paul | J47: St Albans, St Paul | Q47: =J47=B47 -> TRUE
A48: St Albans, St Paul Total | C48: 164451 | D48: 164451 | E48: 164451 | F48: 0 | G48: 1 | I48: St Albans, St Paul Total | Q48: =J48=B48 -> TRUE
A49: St Albans, St Peter | B49: St Albans, St Peter | C49: 100602 | D49: 100602 | E49: 100601.73 | F49: -0.27 | G49: 0.99999732 | I49: St Albans, St Peter | J49: St Albans, St Peter | K49: 1.4551915e-11 | L49: 0 | N49: 1.4551915e-11 | Q49: =J49=B49 -> TRUE
A50: St Albans, St Peter Total | C50: 100602 | D50: 100602 | E50: 100601.73 | F50: -0.27 | G50: 0.99999732 | I50: St Albans, St Peter Total | K50: 1.4551915e-11 | L50: 0 | N50: 1.4551915e-11 | Q50: =J50=B50 -> TRUE
A51: St Albans, St Saviour | B51: St Albans, St Saviour | C51: 71404 | D51: 71404 | E51: 71404 | F51: 0 | G51: 1 | I51: St Albans, St Saviour | J51: St Albans, St Saviour | Q51: =J51=B51 -> TRUE
A52: St Albans, St Saviour Total | C52: 71404 | D52: 71404 | E52: 71404 | F52: 0 | G52: 1 | I52: St Albans, St Saviour Total | Q52: =J52=B52 -> TRUE
A53: St Albans, St Stephen | B53: St Albans, St Stephen | C53: 79983 | D53: 79983 | E53: 79982.68 | F53: -0.32 | G53: 0.999996 | I53: St Albans, St Stephen | J53: St Albans, St Stephen | K53: 0 | N53: 0 | Q53: =J53=B53 -> TRUE
A54: St Albans, St Stephen Total | C54: 79983 | D54: 79983 | E54: 79982.68 | F54: -0.32 | G54: 0.999996 | I54: St Albans, St Stephen Total | K54: 0 | N54: 0 | Q54: =J54=B54 -> TRUE
A55: Grand Total | C55: 1132002 | D55: 1132002 | E55: 1116857.4 | F55: -15144.59 | G55: 0.98662141 | I55: Grand Total | K55: 27407.96 | L55: 9717 | M55: 15442 | N55: 52566.96
A58: Click here to return to homepage

Sheet Watford
A1: Click here to return to homepage
A3: ='Top level Summary'!A3 -> Parish Share report 31.12.2024
B6: Updates
A22: Year | B22: 2024
A23: Deanery | B23: Watford Deanery | I23: Deanery | J23: Watford Deanery
I25: Sum of Historical shortfall | K25: Year Historic shortfall
A26: Benefice | B26: Parish Name | C26: Sum of Full year Req £ | D26: Sum of Request YTD £ | E26: Sum of Received £ | F26: Sum of Balance YTD | G26: Sum of PS % recovery YTD | I26: Benefice | J26: Parish Name | K26: 2023 | L26: 2022 | M26: 2021 & earlier | N26: Grand Total
A27: Abbots Langley | B27: Abbots Langley | C27: 90003 | D27: 90003 | E27: 90003 | F27: 0 | G27: 1 | I27: Abbots Langley | J27: Abbots Langley | Q27: =J27=B27 -> TRUE
A28: Abbots Langley Total | C28: 90003 | D28: 90003 | E28: 90003 | F28: 0 | G28: 1 | I28: Abbots Langley Total | Q28: =J28=B28 -> TRUE
A29: Bushey | B29: Bushey | C29: 83028 | D29: 83028 | E29: 45000 | F29: -38028 | G29: 0.54198584 | I29: Bushey | J29: Bushey | Q29: =J29=B29 -> TRUE
A30: Bushey Total | C30: 83028 | D30: 83028 | E30: 45000 | F30: -38028 | G30: 0.54198584 | I30: Bushey Total | Q30: =J30=B30 -> TRUE
A31: Bushey Heath, St Peter | B31: Bushey Heath, St Peter | C31: 47596 | D31: 47596 | E31: 42596 | F31: -5000 | G31: 0.89494916 | I31: Bushey Heath, St Peter | J31: Bushey Heath, St Peter | L31: 5764 | M31: 0 | N31: 5764 | Q31: =J31=B31 -> TRUE
A32: Bushey Heath, St Peter Total | C32: 47596 | D32: 47596 | E32: 42596 | F32: -5000 | G32: 0.89494916 | I32: Bushey Heath, St Peter Total | L32: 5764 | M32: 0 | N32: 5764 | Q32: =J32=B32 -> TRUE
